BEGIN:VCALENDAR
VERSION:2.0
PRODID:-//Bornpreneur - ECPv6.13.2.1//NONSGML v1.0//EN
CALSCALE:GREGORIAN
METHOD:PUBLISH
X-ORIGINAL-URL:https://www.bornpreneur.com
X-WR-CALDESC:Events for Bornpreneur
REFRESH-INTERVAL;VALUE=DURATION:PT1H
X-Robots-Tag:noindex
X-PUBLISHED-TTL:PT1H
BEGIN:VTIMEZONE
TZID:UTC
BEGIN:STANDARD
TZOFFSETFROM:+0000
TZOFFSETTO:+0000
TZNAME:UTC
DTSTART:20180101T000000
END:STANDARD
END:VTIMEZONE
BEGIN:VTIMEZONE
TZID:Asia/Kolkata
BEGIN:STANDARD
TZOFFSETFROM:+0530
TZOFFSETTO:+0530
TZNAME:IST
DTSTART:20170101T000000
END:STANDARD
END:VTIMEZONE
BEGIN:VEVENT
DTSTART;TZID=UTC:20180227T080000
DTEND;TZID=UTC:20180227T170000
DTSTAMP:20260424T133453
CREATED:20180227T163004Z
LAST-MODIFIED:20180227T163004Z
UID:705-1519718400-1519750800@www.bornpreneur.com
SUMMARY:STEM of Entrepreneurship
DESCRIPTION:
URL:https://www.bornpreneur.com/event/stem-of-entrepreneurship/
CATEGORIES:Introductory Session
ATTACH;FMTTYPE=image/jpeg:https://www.bornpreneur.com/wp-content/uploads/2017/01/12.jpg
END:VEVENT
BEGIN:VEVENT
DTSTART;TZID=Asia/Kolkata:20180107T110000
DTEND;TZID=Asia/Kolkata:20180107T133000
DTSTAMP:20260424T133453
CREATED:20171026T100831Z
LAST-MODIFIED:20171026T100831Z
UID:654-1515322800-1515331800@www.bornpreneur.com
SUMMARY:Introductory Session
DESCRIPTION:
URL:https://www.bornpreneur.com/event/introductory-session-jan18-1/
END:VEVENT
BEGIN:VEVENT
DTSTART;TZID=Asia/Kolkata:20171231T110000
DTEND;TZID=Asia/Kolkata:20171231T133000
DTSTAMP:20260424T133453
CREATED:20171026T100706Z
LAST-MODIFIED:20171026T100706Z
UID:652-1514718000-1514727000@www.bornpreneur.com
SUMMARY:Introductory Session
DESCRIPTION:
URL:https://www.bornpreneur.com/event/introductory-session-dec17-3/
END:VEVENT
BEGIN:VEVENT
DTSTART;TZID=Asia/Kolkata:20171217T110000
DTEND;TZID=Asia/Kolkata:20171217T133000
DTSTAMP:20260424T133453
CREATED:20171026T100511Z
LAST-MODIFIED:20171026T100511Z
UID:650-1513508400-1513517400@www.bornpreneur.com
SUMMARY:Introductory Session
DESCRIPTION:
URL:https://www.bornpreneur.com/event/introductory-session-dec17-2/
END:VEVENT
BEGIN:VEVENT
DTSTART;TZID=Asia/Kolkata:20171203T110000
DTEND;TZID=Asia/Kolkata:20171203T133000
DTSTAMP:20260424T133453
CREATED:20171026T091558Z
LAST-MODIFIED:20171026T091558Z
UID:647-1512298800-1512307800@www.bornpreneur.com
SUMMARY:Introductory Session
DESCRIPTION:
URL:https://www.bornpreneur.com/event/introductory-session-dec17-1/
END:VEVENT
END:VCALENDAR